BEGIN:VCALENDAR
PRODID:-//AT Content Types//AT Event//EN
VERSION:2.0
METHOD:PUBLISH
BEGIN:VEVENT
DTSTAMP:20260421T110132Z
CREATED:20220712T160509Z
UID:ATEvent-0c04661d71fe487db00a3ed3a0f91a5f
LAST-MODIFIED:20220712T161907Z
SUMMARY:Ecosistema dell’Innovazione territoriale ‘NODES - Nord Ovest Digitale E Sostenibile’
DTSTART:20220714T080000Z
DTEND:20220714T093000Z
DESCRIPTION:Ecosistema dell’Innovazione territoriale ‘NODES - Nord
  Ovest Digitale E Sostenibile’ finanziato dal PNRR: opportunità di 
 collaborazione e finanziamento per le aziende.
LOCATION:On line
CLASS:PUBLIC
END:VEVENT
END:VCALENDAR
