BEGIN:VCALENDAR
PRODID:-//AT Content Types//AT Event//EN
VERSION:1.0
BEGIN:VEVENT
DTSTART:20160718T130000Z
DTEND:20160718T160000Z
DCREATED:20160628T151143Z
UID:ATEvent-bbbdf13353f64152b5714b1b0e3f0f4d
SEQUENCE:0
LAST-MODIFIED:20160628T151850Z
SUMMARY:E015
LOCATION:Milano
PRIORITY:3
TRANSP:0
END:VEVENT
END:VCALENDAR
