BEGIN:VCALENDAR
PRODID:-//AT Content Types//AT Event//EN
VERSION:2.0
METHOD:PUBLISH
BEGIN:VEVENT
DTSTAMP:20260424T124846Z
CREATED:20210323T223645Z
UID:ATEvent-d2a4258e5afc44efbb4348de7fdacf12
LAST-MODIFIED:20210323T223751Z
SUMMARY:E-health: la rivoluzione della salute digitale
DTSTART:20210329T130000Z
DTEND:20210329T143000Z
LOCATION:On line
CLASS:PUBLIC
END:VEVENT
END:VCALENDAR
