BEGIN:VCALENDAR
PRODID:-//AT Content Types//AT Event//EN
VERSION:1.0
BEGIN:VEVENT
DTSTART:20160627T120000Z
DTEND:20160628T123000Z
DCREATED:20160609T142342Z
UID:ATEvent-e03198f66f49402d8dc7335de6fb247c
SEQUENCE:0
LAST-MODIFIED:20160609T143121Z
SUMMARY:E-commerce e protezione del consumatore nell’era digitale
LOCATION:Bruxelles (Belgio)
PRIORITY:3
TRANSP:0
END:VEVENT
END:VCALENDAR
