BEGIN:VCALENDAR
PRODID:-//AT Content Types//AT Event//EN
VERSION:2.0
METHOD:PUBLISH
BEGIN:VEVENT
DTSTAMP:20260424T120457Z
CREATED:20210330T163131Z
UID:ATEvent-fb99484c797c46a09aae96d59f998c03
LAST-MODIFIED:20210330T163135Z
SUMMARY:Duplice uso: cosa sono i prodotti duali e quali le prossime novità sul regolamento comunitario
DTSTART:20210407T123000Z
DTEND:20210407T140000Z
LOCATION:On line
CLASS:PUBLIC
END:VEVENT
END:VCALENDAR
