BEGIN:VCALENDAR
PRODID:-//AT Content Types//AT Event//EN
VERSION:2.0
METHOD:PUBLISH
BEGIN:VEVENT
DTSTAMP:20260425T003347Z
CREATED:20210317T173929Z
UID:ATEvent-b2c8c02813dd4a05a5eec4f154cd218a
LAST-MODIFIED:20210317T173943Z
SUMMARY:Doing construction in Africa
DTSTART:20210324T090000Z
DTEND:20210324T160000Z
DESCRIPTION:Partnership opportunities for Italian and African companie
 s in the construction supply chain
LOCATION:On line
CLASS:PUBLIC
END:VEVENT
END:VCALENDAR
