BEGIN:VCALENDAR
PRODID:-//AT Content Types//AT Event//EN
VERSION:1.0
BEGIN:VEVENT
DTSTART:20220420T143000Z
DTEND:20220420T160000Z
DCREATED:20220411T095840Z
UID:ATEvent-64748c56a3dd492788bcba44770ca7a8
SEQUENCE:0
LAST-MODIFIED:20220421T081345Z
SUMMARY:Doing Business in USA: cultura\, commercio\, investimenti
DESCRIPTION:Terzo webinar dal titolo "Fiscalità d’impresa negli Sta
 ti Uniti nel quadro delle riforme Biden\ne relativi aspetti legali".
PRIORITY:3
TRANSP:0
END:VEVENT
END:VCALENDAR
