BEGIN:VCALENDAR
PRODID:-//AT Content Types//AT Event//EN
VERSION:2.0
METHOD:PUBLISH
BEGIN:VEVENT
DTSTAMP:20260421T230436Z
CREATED:20231017T143838Z
UID:ATEvent-e6eef16ff0e74177a9b8d2ba73634b1b
LAST-MODIFIED:20231017T145244Z
SUMMARY:Dogana digitale\, nuovi servizi per l’export e scenari futuri
DTSTART:20231023T090000Z
DTEND:20231023T103000Z
LOCATION:Online
CLASS:PUBLIC
END:VEVENT
END:VCALENDAR
