BEGIN:VCALENDAR
PRODID:-//AT Content Types//AT Event//EN
VERSION:1.0
BEGIN:VEVENT
DTSTART:20190930T123000Z
DTEND:20190930T153000Z
DCREATED:20190917T161608Z
UID:ATEvent-fa86895378d94791b1f9eae384f19499
SEQUENCE:0
LAST-MODIFIED:20190917T161616Z
SUMMARY:DM 03/08/2015 - Codice di Prevenzione incedi
DESCRIPTION:Un'opportunità per il mondo dell'impresa e delle professi
 oni. L'ottimizzazione dell'impiego delle risorse secondo i principi de
 ll'analisi del rischio.
LOCATION:Bergamo
PRIORITY:3
TRANSP:0
END:VEVENT
END:VCALENDAR
