BEGIN:VCALENDAR
PRODID:-//AT Content Types//AT Event//EN
VERSION:2.0
METHOD:PUBLISH
BEGIN:VEVENT
DTSTAMP:20260424T153655Z
CREATED:20220617T130146Z
UID:ATEvent-5a313abf093e4e65bced9a916211b309
LAST-MODIFIED:20220617T130412Z
SUMMARY:Disegnare il futuro - Competitività\, Innovazione\, Sostenibilità
DTSTART:20220624T090000Z
DTEND:20220624T100000Z
CLASS:PUBLIC
END:VEVENT
END:VCALENDAR
