BEGIN:VCALENDAR
PRODID:-//AT Content Types//AT Event//EN
VERSION:1.0
BEGIN:VEVENT
DTSTART:20230320T090000Z
DTEND:20230320T110000Z
DCREATED:20230224T153526Z
UID:ATEvent-d000b0b275e44d458cbb778a7651461b
SEQUENCE:0
LAST-MODIFIED:20230320T145430Z
SUMMARY:Digitalizzazione doganale: come gestire la reingegnerizzazione di AIDA
DESCRIPTION:Webinar gratuito
LOCATION:Online
PRIORITY:3
TRANSP:0
END:VEVENT
END:VCALENDAR
