BEGIN:VCALENDAR
PRODID:-//AT Content Types//AT Event//EN
VERSION:2.0
METHOD:PUBLISH
BEGIN:VEVENT
DTSTAMP:20260421T181313Z
CREATED:20180222T173122Z
UID:ATEvent-ce85c4d85bca4d5180a2f976e6a76c08
LAST-MODIFIED:20180222T173229Z
SUMMARY:Digitalizzazione dell'industria europea
DTSTART:20180301T083000Z
DTEND:20180301T123000Z
LOCATION:Parma
CLASS:PUBLIC
END:VEVENT
END:VCALENDAR
