BEGIN:VCALENDAR
PRODID:-//AT Content Types//AT Event//EN
VERSION:1.0
BEGIN:VEVENT
DTSTART:20190131T160000Z
DTEND:20190131T180000Z
DCREATED:20190122T113814Z
UID:ATEvent-f8846e21cee5440aa02f6940c6b55029
SEQUENCE:0
LAST-MODIFIED:20190122T113846Z
SUMMARY:Digitalizzare il manifatturiero: opportunità tecnologiche o crisi di competenze?
DESCRIPTION:Presentazione del Master executive in Gestione della Fabbr
 ica Intelligente
LOCATION:Bergamo
PRIORITY:3
TRANSP:0
END:VEVENT
END:VCALENDAR
