BEGIN:VCALENDAR
PRODID:-//AT Content Types//AT Event//EN
VERSION:1.0
BEGIN:VEVENT
DTSTART:20201217T140000Z
DTEND:20201217T153000Z
DCREATED:20201211T144932Z
UID:ATEvent-1c464664e7c84add8653a8072a22ae5c
SEQUENCE:0
LAST-MODIFIED:20201211T144940Z
SUMMARY:Digital export: nuovi modelli per accelerare i processi di acquisto B2B
LOCATION:On line
PRIORITY:3
TRANSP:0
END:VEVENT
END:VCALENDAR
