BEGIN:VCALENDAR
PRODID:-//AT Content Types//AT Event//EN
VERSION:1.0
BEGIN:VEVENT
DTSTART:20210118T081500Z
DTEND:20210118T120000Z
DCREATED:20201218T135151Z
UID:ATEvent-98a34f37267d4efc81d9878a08646025
SEQUENCE:0
LAST-MODIFIED:20210122T144914Z
SUMMARY:Digital Export Academy - Web-marketing
DESCRIPTION:Primo appuntamento
LOCATION:On line
PRIORITY:3
TRANSP:0
END:VEVENT
END:VCALENDAR
