BEGIN:VCALENDAR
PRODID:-//AT Content Types//AT Event//EN
VERSION:2.0
METHOD:PUBLISH
BEGIN:VEVENT
DTSTAMP:20260423T153007Z
CREATED:20190121T162208Z
UID:ATEvent-c719cf0af487442aac2d056f4ba7a66a
LAST-MODIFIED:20190121T162218Z
SUMMARY:Diagnosi energetiche - D.LGS. 102/2014: obblighi e opportunità
DTSTART:20190130T140000Z
DTEND:20190130T160000Z
LOCATION:Cremona
CLASS:PUBLIC
END:VEVENT
END:VCALENDAR
