BEGIN:VCALENDAR
PRODID:-//AT Content Types//AT Event//EN
VERSION:1.0
BEGIN:VEVENT
DTSTART:20211008T123000Z
DTEND:20211008T150000Z
DCREATED:20211007T152847Z
UID:ATEvent-eddadd400f894c388b0f9787f83c38ab
SEQUENCE:0
LAST-MODIFIED:20211007T152911Z
SUMMARY:Dalla prima alla quarta rivoluzione industriale. Storia delle relazioni industriali dei metalmeccanici
LOCATION:Bergamo e On line
PRIORITY:3
TRANSP:0
END:VEVENT
END:VCALENDAR
