BEGIN:VCALENDAR
PRODID:-//AT Content Types//AT Event//EN
VERSION:2.0
METHOD:PUBLISH
BEGIN:VEVENT
DTSTAMP:20260424T075421Z
CREATED:20161109T150950Z
UID:ATEvent-1e589b9089b249b8bc1cfde3ba8d4568
LAST-MODIFIED:20161109T151038Z
SUMMARY:Dalla misura al risparmio - Il sistema di monitoraggio energetico
DTSTART:20161124T133000Z
DTEND:20161124T153000Z
LOCATION:Legnano (MI)
CLASS:PUBLIC
END:VEVENT
END:VCALENDAR
