BEGIN:VCALENDAR
PRODID:-//AT Content Types//AT Event//EN
VERSION:1.0
BEGIN:VEVENT
DTSTART:20151023T123000Z
DTEND:20151023T163000Z
DCREATED:20151012T155908Z
UID:ATEvent-b6e9d6400916475eba819cbd93bdbca8
SEQUENCE:0
LAST-MODIFIED:20151012T155942Z
SUMMARY:Dalla diagnosi energetica alla riduzione dei costi energetici nell’industria
LOCATION:Brescia
PRIORITY:3
TRANSP:0
END:VEVENT
END:VCALENDAR
