BEGIN:VCALENDAR
PRODID:-//AT Content Types//AT Event//EN
VERSION:1.0
BEGIN:VEVENT
DTSTART:20221004T090000Z
DTEND:20221004T110000Z
DCREATED:20221003T124505Z
UID:ATEvent-752a8561e77c4da58d6ac45d7df8eb0d
SEQUENCE:0
LAST-MODIFIED:20221003T124607Z
SUMMARY:Dal check-up dell’agevolato alla costruzione del business plan e alla comunicazione ESG: le novità in Bancopass
LOCATION:Online
PRIORITY:3
TRANSP:0
END:VEVENT
END:VCALENDAR
