BEGIN:VCALENDAR
PRODID:-//AT Content Types//AT Event//EN
VERSION:1.0
BEGIN:VEVENT
DTSTART:20210907T070000Z
DTEND:20210907T073000Z
DCREATED:20210902T153013Z
UID:ATEvent-e92f6a4b647940428022ef1dbee38266
SEQUENCE:0
LAST-MODIFIED:20210902T153919Z
SUMMARY:Da sempre accanto alle imprese: scopri i servizi per migliorare i processi e certificare la qualità aziendale
LOCATION:On line
PRIORITY:3
TRANSP:0
END:VEVENT
END:VCALENDAR
