BEGIN:VCALENDAR
PRODID:-//AT Content Types//AT Event//EN
VERSION:2.0
METHOD:PUBLISH
BEGIN:VEVENT
DTSTAMP:20260425T131350Z
CREATED:20211001T153220Z
UID:ATEvent-bb695b66cb584128af08cca863f48bb2
LAST-MODIFIED:20211001T155946Z
SUMMARY:Da sempre accanto alle imprese: scopri i servizi a supporto della trasformazione dei processi produttivi dell’azienda
DTSTART:20211005T070000Z
DTEND:20211005T073000Z
LOCATION:On line
CLASS:PUBLIC
END:VEVENT
END:VCALENDAR
