BEGIN:VCALENDAR
PRODID:-//AT Content Types//AT Event//EN
VERSION:1.0
BEGIN:VEVENT
DTSTART:20211214T080000Z
DTEND:20211214T083000Z
DCREATED:20211210T150337Z
UID:ATEvent-36a5df821185438cab252a8b9055c290
SEQUENCE:0
LAST-MODIFIED:20211210T150341Z
SUMMARY:Da sempre accanto alle imprese con servizi specifici: scopri il supporto in tema di formazione e competenze
LOCATION:On line
PRIORITY:3
TRANSP:0
END:VEVENT
END:VCALENDAR
