BEGIN:VCALENDAR
PRODID:-//AT Content Types//AT Event//EN
VERSION:1.0
BEGIN:VEVENT
DTSTART:20190604T153000Z
DTEND:20190604T173000Z
DCREATED:20190522T150004Z
UID:ATEvent-d5b7b9d85cf4419a8502ad0b7e79c5ca
SEQUENCE:0
LAST-MODIFIED:20190522T150059Z
SUMMARY:Da Alternanza ad Alleanza - Una nuova prospettiva nel rapporto scuola lavoro
LOCATION:Desenzano del Garda (BS)
PRIORITY:3
TRANSP:0
END:VEVENT
END:VCALENDAR
