BEGIN:VCALENDAR
PRODID:-//AT Content Types//AT Event//EN
VERSION:2.0
METHOD:PUBLISH
BEGIN:VEVENT
DTSTAMP:20260423T014502Z
CREATED:20191007T155731Z
UID:ATEvent-dd1e9575dc4042ee89fa3ddeb230dcaa
LAST-MODIFIED:20191007T155736Z
SUMMARY:D.Lgs. 231/2001 e modelli di organizzazione gestione e controllo
DTSTART:20191009T123000Z
DTEND:20191009T153000Z
LOCATION:Brescia
CLASS:PUBLIC
END:VEVENT
END:VCALENDAR
