BEGIN:VCALENDAR
PRODID:-//AT Content Types//AT Event//EN
VERSION:2.0
METHOD:PUBLISH
BEGIN:VEVENT
DTSTAMP:20260423T181541Z
CREATED:20160307T151859Z
UID:ATEvent-924a1e99f6d34dc1bfa58321c4193b6f
LAST-MODIFIED:20160307T152014Z
SUMMARY:Cyber security: tecnologie\, innovazione e infrastrutture.
DTSTART:20160323T083000Z
DTEND:20160323T120000Z
DESCRIPTION:Come tutelare gli asset strategici delle imprese.
LOCATION:Milano
CLASS:PUBLIC
END:VEVENT
END:VCALENDAR
