BEGIN:VCALENDAR
PRODID:-//AT Content Types//AT Event//EN
VERSION:1.0
BEGIN:VEVENT
DTSTART:20171012T070000Z
DTEND:20171012T110000Z
DCREATED:20170925T142115Z
UID:ATEvent-d4b2f8adc5774de8aeeda20aaceeddd1
SEQUENCE:0
LAST-MODIFIED:20171003T130414Z
SUMMARY:Cyber Physical Security
LOCATION:Milano
PRIORITY:3
TRANSP:0
END:VEVENT
END:VCALENDAR
