BEGIN:VCALENDAR
PRODID:-//AT Content Types//AT Event//EN
VERSION:2.0
METHOD:PUBLISH
BEGIN:VEVENT
DTSTAMP:20260424T065632Z
CREATED:20230605T073703Z
UID:ATEvent-0a8e8bd124844881b69aee41b5226b53
LAST-MODIFIED:20230606T091346Z
SUMMARY:Crescere sulle ali della Governance. L'evoluzione delle M&A sul territorio bergamasco
DTSTART:20230627T150000Z
DTEND:20230627T170000Z
LOCATION:Bergamo
CLASS:PUBLIC
END:VEVENT
END:VCALENDAR
