BEGIN:VCALENDAR
PRODID:-//AT Content Types//AT Event//EN
VERSION:1.0
BEGIN:VEVENT
DTSTART:20190606T150000Z
DTEND:20190606T170000Z
DCREATED:20190527T141338Z
UID:ATEvent-07c4ff5a9496445b92405424796c3750
SEQUENCE:0
LAST-MODIFIED:20190527T141343Z
SUMMARY:Credito alle imprese
DESCRIPTION:Lo SCENARIO nel medio termine e gli strumenti per governar
 e il RATING
LOCATION:Provaglio d’Iseo (BS)
PRIORITY:3
TRANSP:0
END:VEVENT
END:VCALENDAR
