BEGIN:VCALENDAR
PRODID:-//AT Content Types//AT Event//EN
VERSION:2.0
METHOD:PUBLISH
BEGIN:VEVENT
DTSTAMP:20260424T095909Z
CREATED:20210108T102916Z
UID:ATEvent-da8367e01279462e828979fce42a001e
LAST-MODIFIED:20210108T102919Z
SUMMARY:Covid-19 - Pandemic fatigue: il concetto di benessere secondo l’OMS e il D.Lgs. n. 81/2008 (art. 2 lett. o)
DTSTART:20210115T083000Z
DTEND:20210115T100000Z
LOCATION:On line
CLASS:PUBLIC
END:VEVENT
END:VCALENDAR
