BEGIN:VCALENDAR
PRODID:-//AT Content Types//AT Event//EN
VERSION:2.0
METHOD:PUBLISH
BEGIN:VEVENT
DTSTAMP:20260421T092926Z
CREATED:20230320T200342Z
UID:ATEvent-9492cce3b55946519c195a0994d74914
LAST-MODIFIED:20230320T200500Z
SUMMARY:Costruire il proprio Personal Branding
DTSTART:20230323T140000Z
DTEND:20230323T173000Z
LOCATION:Gallarate (VA)
CLASS:PUBLIC
END:VEVENT
END:VCALENDAR
