BEGIN:VCALENDAR
PRODID:-//AT Content Types//AT Event//EN
VERSION:1.0
BEGIN:VEVENT
DTSTART:20220302T093000Z
DTEND:20220302T110000Z
DCREATED:20220223T153436Z
UID:ATEvent-9666556af6244b9292709c1142ca1475
SEQUENCE:0
LAST-MODIFIED:20220223T153450Z
SUMMARY:Cosa è emerso dalla COP 26 di Glasgow?
LOCATION:On line
PRIORITY:3
TRANSP:0
END:VEVENT
END:VCALENDAR
