BEGIN:VCALENDAR
PRODID:-//AT Content Types//AT Event//EN
VERSION:2.0
METHOD:PUBLISH
BEGIN:VEVENT
DTSTAMP:20260421T160800Z
CREATED:20180727T132609Z
UID:ATEvent-cf77d3b640e045e98912d7d6951f827c
LAST-MODIFIED:20180727T132618Z
SUMMARY:Corso post diploma meccatronica industriale - opportunità per i figli dei dipendenti
DTSTART:20180917T060000Z
DTEND:20180917T160000Z
DESCRIPTION:Scadenza iscrizioni
LOCATION:Bergamo
CLASS:PUBLIC
END:VEVENT
END:VCALENDAR
