BEGIN:VCALENDAR
PRODID:-//AT Content Types//AT Event//EN
VERSION:1.0
BEGIN:VEVENT
DTSTART:20231121T133000Z
DTEND:20231121T153000Z
DCREATED:20231103T103653Z
UID:ATEvent-8d6e1955b40841bab895ccfcbbd3e7af
SEQUENCE:0
LAST-MODIFIED:20231110T145737Z
SUMMARY:Sfide e opportunità per le aziende nella lotta al cambiamento climatico
DESCRIPTION:Secondo webinar del ciclo "Sostenibilità: sfide e opportu
 nità per il futuro delle aziende"
LOCATION:Online
PRIORITY:3
TRANSP:0
END:VEVENT
END:VCALENDAR
