BEGIN:VCALENDAR
PRODID:-//AT Content Types//AT Event//EN
VERSION:1.0
BEGIN:VEVENT
DTSTART:20190131T130000Z
DTEND:20190131T170000Z
DCREATED:20190110T165721Z
UID:ATEvent-8297511c14874f51bf9868bb244ad0e3
SEQUENCE:0
LAST-MODIFIED:20190110T165928Z
SUMMARY:Piano Impresa 4.0 - La cyber security per le PMI 4.0
LOCATION:Cremona
PRIORITY:3
TRANSP:0
END:VEVENT
END:VCALENDAR
