BEGIN:VCALENDAR
PRODID:-//AT Content Types//AT Event//EN
VERSION:2.0
METHOD:PUBLISH
BEGIN:VEVENT
DTSTAMP:20260424T153046Z
CREATED:20210630T091533Z
UID:ATEvent-ec54f0d014834220807e0ee6a8e14f31
LAST-MODIFIED:20210630T092109Z
SUMMARY:Green marketing e miglioramento dell’immagine aziendale
DTSTART:20210729T080000Z
DTEND:20210729T110000Z
DESCRIPTION:4° ed ultimo incontro del percorso formativo gratuito di 
 “Energy management"
LOCATION:On line
CLASS:PUBLIC
END:VEVENT
END:VCALENDAR
