BEGIN:VCALENDAR
PRODID:-//AT Content Types//AT Event//EN
VERSION:1.0
BEGIN:VEVENT
DTSTART:20240307T090000Z
DTEND:20240307T114500Z
DCREATED:20240219T120206Z
UID:ATEvent-0faee76a3245439b8d86c6304df89beb
SEQUENCE:0
LAST-MODIFIED:20240219T120410Z
SUMMARY:Legge di Bilancio 2024\, incentivi per gli investimenti in ricerca e beni strumentali: le novità
LOCATION:Online
PRIORITY:3
TRANSP:0
END:VEVENT
END:VCALENDAR
