BEGIN:VCALENDAR
PRODID:-//AT Content Types//AT Event//EN
VERSION:1.0
BEGIN:VEVENT
DTSTART:20240228T090000Z
DTEND:20240228T113000Z
DCREATED:20240219T140706Z
UID:ATEvent-7eed510795df49f693bfb54e511e6bb3
SEQUENCE:0
LAST-MODIFIED:20240222T085501Z
SUMMARY:Legge di Bilancio 2024 - Incentivi per gli investimenti in ricerca e beni strumentali
LOCATION:Online
PRIORITY:3
TRANSP:0
END:VEVENT
END:VCALENDAR
