BEGIN:VCALENDAR
PRODID:-//AT Content Types//AT Event//EN
VERSION:2.0
METHOD:PUBLISH
BEGIN:VEVENT
DTSTAMP:20260424T042716Z
CREATED:20230320T201152Z
UID:ATEvent-92972b66392445e1b5b32f299e3cbbca
LAST-MODIFIED:20230330T144929Z
SUMMARY:Le opportunità di finanza agevolata per le imprese lombarde - Il Pacchetto investimenti di Regione Lombardia
DTSTART:20230329T080000Z
DTEND:20230329T100000Z
DESCRIPTION:Webinar gratuito
LOCATION:On line
CLASS:PUBLIC
END:VEVENT
END:VCALENDAR
