BEGIN:VCALENDAR
PRODID:-//AT Content Types//AT Event//EN
VERSION:1.0
BEGIN:VEVENT
DTSTART:20180222T134500Z
DTEND:20180222T170000Z
DCREATED:20180129T085318Z
UID:ATEvent-a41052160111493eb5feb98642fb851d
SEQUENCE:0
LAST-MODIFIED:20180227T140649Z
SUMMARY:L’Europa per far crescere la tua impresa
DESCRIPTION:strumenti\, incentivi e casi di successo
LOCATION:Lomazzo (CO)
PRIORITY:3
TRANSP:0
END:VEVENT
END:VCALENDAR
