BEGIN:VCALENDAR
PRODID:-//AT Content Types//AT Event//EN
VERSION:2.0
METHOD:PUBLISH
BEGIN:VEVENT
DTSTAMP:20260424T104111Z
CREATED:20190110T110734Z
UID:ATEvent-45d7503697d24bb797a4afb63381b6f7
LAST-MODIFIED:20190110T113726Z
SUMMARY:Incentivi per la crescita – Novità Legge di Bilancio 2019 e Regione Lombardia
DTSTART:20190118T133000Z
DTEND:20190118T170000Z
LOCATION:Crema (CR)
CLASS:PUBLIC
END:VEVENT
END:VCALENDAR
