BEGIN:VCALENDAR
PRODID:-//AT Content Types//AT Event//EN
VERSION:2.0
METHOD:PUBLISH
BEGIN:VEVENT
DTSTAMP:20260421T134152Z
CREATED:20231009T084511Z
UID:ATEvent-2dea508260b644ce8bbfa7044a5625d5
LAST-MODIFIED:20231013T103531Z
SUMMARY:Economia Circolare: Innovazione e ricerca per un futuro sostenibile
DTSTART:20231019T083000Z
DTEND:20231019T103000Z
DESCRIPTION:LE2C promuove la sostenibilità in Lombardia. Partecipa al
 l'evento e scopri i progetti di economia circolare per un futuro più 
 green!
LOCATION:Milano
CLASS:PUBLIC
END:VEVENT
END:VCALENDAR
