BEGIN:VCALENDAR
PRODID:-//AT Content Types//AT Event//EN
VERSION:1.0
BEGIN:VEVENT
DTSTART:20210119T083000Z
DTEND:20210119T120000Z
DCREATED:20201218T135324Z
UID:ATEvent-014b9bae8af8462bb89edc13d9c12ac6
SEQUENCE:0
LAST-MODIFIED:20210122T145040Z
SUMMARY:Digital Export Academy - Web-marketing
DESCRIPTION:Secondo appuntamento
LOCATION:On line
PRIORITY:3
TRANSP:0
END:VEVENT
END:VCALENDAR
