BEGIN:VCALENDAR
PRODID:-//AT Content Types//AT Event//EN
VERSION:2.0
METHOD:PUBLISH
BEGIN:VEVENT
DTSTAMP:20260423T105946Z
CREATED:20230511T141827Z
UID:ATEvent-629512c359ee40c8bfefdc1f9b1c091b
LAST-MODIFIED:20230515T070524Z
SUMMARY:Conferenza Stampa
DTSTART:20230515T083000Z
DTEND:20230515T093000Z
DESCRIPTION:Presentazione risultati analisi congiunturale dell’Indus
 tria e dell’Artigianato manifatturieri in Lombardia - 1° trimestre 
 2023
LOCATION:Milano\, On line
CLASS:PUBLIC
END:VEVENT
END:VCALENDAR
