BEGIN:VCALENDAR
PRODID:-//AT Content Types//AT Event//EN
VERSION:1.0
BEGIN:VEVENT
DTSTART:20240305T133000Z
DTEND:20240305T153000Z
DCREATED:20231103T105730Z
UID:ATEvent-44952f85ffae45af827ed576bbc7fd7d
SEQUENCE:0
LAST-MODIFIED:20231110T144946Z
SUMMARY:Misurare e comunicare la sostenibilità
DESCRIPTION:Ultimo webinar del ciclo "Sostenibilità: sfide e opportun
 ità per il futuro delle aziende"
LOCATION:Online
PRIORITY:3
TRANSP:0
END:VEVENT
END:VCALENDAR
