BEGIN:VCALENDAR
PRODID:-//AT Content Types//AT Event//EN
VERSION:2.0
METHOD:PUBLISH
BEGIN:VEVENT
DTSTAMP:20260424T095526Z
CREATED:20231103T105123Z
UID:ATEvent-0e2512361cd1443787e67149494dc8f5
LAST-MODIFIED:20231110T145023Z
SUMMARY:Tassonomia UE: misurare la sostenibilità in chiave finanziaria
DTSTART:20240227T133000Z
DTEND:20240227T153000Z
DESCRIPTION:Nono webinar del ciclo "Sostenibilità: sfide e opportunit
 à per il futuro delle aziende"
LOCATION:Online
CLASS:PUBLIC
END:VEVENT
END:VCALENDAR
