BEGIN:VCALENDAR
PRODID:-//AT Content Types//AT Event//EN
VERSION:1.0
BEGIN:VEVENT
DTSTART:20240625T123000Z
DTEND:20240625T143000Z
DCREATED:20240430T135841Z
UID:ATEvent-43bf353aa331403c9c427c7f4b80f9d5
SEQUENCE:0
LAST-MODIFIED:20240430T135944Z
SUMMARY:Sostenibilità: rispondere alle nuove richieste normative\, degli stakeholder e prepararsi alla rendicontazione
DESCRIPTION:ESRS E4 Natura\, Biodiversità ed ecosistemi: quale relazi
 one con il business della mia azienda?
LOCATION:Online
PRIORITY:3
TRANSP:0
END:VEVENT
END:VCALENDAR
