BEGIN:VCALENDAR
PRODID:-//AT Content Types//AT Event//EN
VERSION:1.0
BEGIN:VEVENT
DTSTART:20240123T133000Z
DTEND:20240123T153000Z
DCREATED:20231103T104237Z
UID:ATEvent-db783eb3e86e43dc90c689c0717f1ffa
SEQUENCE:0
LAST-MODIFIED:20231110T145834Z
SUMMARY:Evoluzione del governo societario in chiave ESG
DESCRIPTION:Sesto webinar del ciclo "Sostenibilità: sfide e opportuni
 tà per il futuro delle aziende"
LOCATION:Online
PRIORITY:3
TRANSP:0
END:VEVENT
END:VCALENDAR
