BEGIN:VCALENDAR
PRODID:-//AT Content Types//AT Event//EN
VERSION:2.0
METHOD:PUBLISH
BEGIN:VEVENT
DTSTAMP:20260425T113724Z
CREATED:20231103T104056Z
UID:ATEvent-dcb6c86f6aaf4844b3f7a6ae0a0ba665
LAST-MODIFIED:20231110T145821Z
SUMMARY:Diritti umani e supply chain responsabile\, politiche e certificazioni
DTSTART:20240109T133000Z
DTEND:20240109T153000Z
DESCRIPTION:Quinto webinar del ciclo "Sostenibilità: sfide e opportun
 ità per il futuro delle aziende"
LOCATION:Online
CLASS:PUBLIC
END:VEVENT
END:VCALENDAR
