BEGIN:VCALENDAR
PRODID:-//AT Content Types//AT Event//EN
VERSION:2.0
METHOD:PUBLISH
BEGIN:VEVENT
DTSTAMP:20260424T140416Z
CREATED:20211202T105634Z
UID:ATEvent-fb2cba04949348168e7b88bbaf27da25
LAST-MODIFIED:20211202T135516Z
SUMMARY:ESG: Trasformazione digitale e valore degli intangibili
DTSTART:20211209T160000Z
DTEND:20211209T173000Z
DESCRIPTION:5° incontro del ciclo di webinar "ESG: Sostenibilità e F
 inanza. Come cambiano le Imprese i Mercati"
LOCATION:On line
CLASS:PUBLIC
END:VEVENT
END:VCALENDAR
